BEGIN:VCALENDAR
VERSION:2.0
PRODID:-//Arbeitskreis Asyl - ECPv6.15.20//NONSGML v1.0//EN
CALSCALE:GREGORIAN
METHOD:PUBLISH
X-ORIGINAL-URL:https://www.asylkreis-rossdorf.de
X-WR-CALDESC:Veranstaltungen für Arbeitskreis Asyl
REFRESH-INTERVAL;VALUE=DURATION:PT1H
X-Robots-Tag:noindex
X-PUBLISHED-TTL:PT1H
BEGIN:VTIMEZONE
TZID:Europe/Berlin
BEGIN:DAYLIGHT
TZOFFSETFROM:+0100
TZOFFSETTO:+0200
TZNAME:CEST
DTSTART:20230326T010000
END:DAYLIGHT
BEGIN:STANDARD
TZOFFSETFROM:+0200
TZOFFSETTO:+0100
TZNAME:CET
DTSTART:20231029T010000
END:STANDARD
BEGIN:DAYLIGHT
TZOFFSETFROM:+0100
TZOFFSETTO:+0200
TZNAME:CEST
DTSTART:20240331T010000
END:DAYLIGHT
BEGIN:STANDARD
TZOFFSETFROM:+0200
TZOFFSETTO:+0100
TZNAME:CET
DTSTART:20241027T010000
END:STANDARD
BEGIN:DAYLIGHT
TZOFFSETFROM:+0100
TZOFFSETTO:+0200
TZNAME:CEST
DTSTART:20250330T010000
END:DAYLIGHT
BEGIN:STANDARD
TZOFFSETFROM:+0200
TZOFFSETTO:+0100
TZNAME:CET
DTSTART:20251026T010000
END:STANDARD
END:VTIMEZONE
BEGIN:VEVENT
DTSTART;TZID=Europe/Berlin:20241026T143000
DTEND;TZID=Europe/Berlin:20241026T173000
DTSTAMP:20260425T013652
CREATED:20241003T081433Z
LAST-MODIFIED:20250816T122350Z
UID:1108-1729953000-1729963800@www.asylkreis-rossdorf.de
SUMMARY:Café International
DESCRIPTION:26. Oktober\, 14:30 Uhr – 17:30 Uhr\n\n\n\nHerzliche Einladung zu unserem Café International in 2024 im Bürgerzentrum „Neue Schule“\, Darmstädter Straße 66. \nWir freuen uns auf interessante Begegnungen rundum ein leckeres Mitbringbuffet.
URL:https://www.asylkreis-rossdorf.de/termin/cafe-international-14/
LOCATION:Bürgerzentrum Neue Schule\, Roßdorf\, Darmstädter Straße 66\, Roßdorf\, Hessen\, 64380
CATEGORIES:Veranstaltungen
END:VEVENT
BEGIN:VEVENT
DTSTART;TZID=Europe/Berlin:20241029T190000
DTEND;TZID=Europe/Berlin:20241029T210000
DTSTAMP:20260425T013652
CREATED:20240923T072722Z
LAST-MODIFIED:20250816T122404Z
UID:1103-1730228400-1730235600@www.asylkreis-rossdorf.de
SUMMARY:Asylkreistreffen am 29.10.2024
DESCRIPTION:Wir tauschen Informationen aus und besprechen Aktivitäten. Gäste sind herzlich willkommen. \nDiesmal treffen wir uns in Gundernhausen\, in der Hofreite „Palmy“.
URL:https://www.asylkreis-rossdorf.de/termin/asylkreistreffen-16/
LOCATION:Gundernhausen\, Hofreite Palmy\, Nordhäuser Straße 31\, Roßdorf-Gundernhausen
CATEGORIES:Treffen
ORGANIZER;CN="Arbeitskreis Asyl":MAILTO:j.quaiser@gmx.de
END:VEVENT
END:VCALENDAR