BEGIN:VCALENDAR
VERSION:2.0
PRODID:-//Arbeitskreis Asyl - ECPv6.15.20//NONSGML v1.0//EN
CALSCALE:GREGORIAN
METHOD:PUBLISH
X-WR-CALNAME:Arbeitskreis Asyl
X-ORIGINAL-URL:https://www.asylkreis-rossdorf.de
X-WR-CALDESC:Veranstaltungen für Arbeitskreis Asyl
REFRESH-INTERVAL;VALUE=DURATION:PT1H
X-Robots-Tag:noindex
X-PUBLISHED-TTL:PT1H
BEGIN:VTIMEZONE
TZID:Europe/Berlin
BEGIN:DAYLIGHT
TZOFFSETFROM:+0100
TZOFFSETTO:+0200
TZNAME:CEST
DTSTART:20230326T010000
END:DAYLIGHT
BEGIN:STANDARD
TZOFFSETFROM:+0200
TZOFFSETTO:+0100
TZNAME:CET
DTSTART:20231029T010000
END:STANDARD
BEGIN:DAYLIGHT
TZOFFSETFROM:+0100
TZOFFSETTO:+0200
TZNAME:CEST
DTSTART:20240331T010000
END:DAYLIGHT
BEGIN:STANDARD
TZOFFSETFROM:+0200
TZOFFSETTO:+0100
TZNAME:CET
DTSTART:20241027T010000
END:STANDARD
BEGIN:DAYLIGHT
TZOFFSETFROM:+0100
TZOFFSETTO:+0200
TZNAME:CEST
DTSTART:20250330T010000
END:DAYLIGHT
BEGIN:STANDARD
TZOFFSETFROM:+0200
TZOFFSETTO:+0100
TZNAME:CET
DTSTART:20251026T010000
END:STANDARD
END:VTIMEZONE
BEGIN:VEVENT
DTSTART;TZID=Europe/Berlin:20240923T080000
DTEND;TZID=Europe/Berlin:20240923T170000
DTSTAMP:20260425T032518
CREATED:20240923T072551Z
LAST-MODIFIED:20240923T072800Z
UID:1100-1727078400-1727110800@www.asylkreis-rossdorf.de
SUMMARY:Café International am 26.10.2026
DESCRIPTION:Herzliche Einladung zu unserem Café International am 26.10.2024\, 14.30 – 17.30 Uhr im Bürgerzentrum „Neu Schule“\, Darmstädter Straße 66. \n\n\n\nWir freuen uns auf interessante Begegnungen rundum ein leckeres Mitbringbuffet sowie Spaß und Spiel für Kinder und Jugendliche. \n\n\n\nKarin Lichte\, Asylkreis Roßdorf und Gundernhausen
URL:https://www.asylkreis-rossdorf.de/termin/cafe-international-13/
LOCATION:Hessen
END:VEVENT
END:VCALENDAR