BEGIN:VCALENDAR
VERSION:2.0
PRODID:-//Arbeitskreis Asyl - ECPv6.15.20//NONSGML v1.0//EN
CALSCALE:GREGORIAN
METHOD:PUBLISH
X-WR-CALNAME:Arbeitskreis Asyl
X-ORIGINAL-URL:https://www.asylkreis-rossdorf.de
X-WR-CALDESC:Veranstaltungen für Arbeitskreis Asyl
REFRESH-INTERVAL;VALUE=DURATION:PT1H
X-Robots-Tag:noindex
X-PUBLISHED-TTL:PT1H
BEGIN:VTIMEZONE
TZID:Europe/Berlin
BEGIN:DAYLIGHT
TZOFFSETFROM:+0100
TZOFFSETTO:+0200
TZNAME:CEST
DTSTART:20250330T010000
END:DAYLIGHT
BEGIN:STANDARD
TZOFFSETFROM:+0200
TZOFFSETTO:+0100
TZNAME:CET
DTSTART:20251026T010000
END:STANDARD
BEGIN:DAYLIGHT
TZOFFSETFROM:+0100
TZOFFSETTO:+0200
TZNAME:CEST
DTSTART:20260329T010000
END:DAYLIGHT
BEGIN:STANDARD
TZOFFSETFROM:+0200
TZOFFSETTO:+0100
TZNAME:CET
DTSTART:20261025T010000
END:STANDARD
BEGIN:DAYLIGHT
TZOFFSETFROM:+0100
TZOFFSETTO:+0200
TZNAME:CEST
DTSTART:20270328T010000
END:DAYLIGHT
BEGIN:STANDARD
TZOFFSETFROM:+0200
TZOFFSETTO:+0100
TZNAME:CET
DTSTART:20271031T010000
END:STANDARD
END:VTIMEZONE
BEGIN:VEVENT
DTSTART;TZID=Europe/Berlin:20260121T173000
DTEND;TZID=Europe/Berlin:20260121T193000
DTSTAMP:20260423T192534
CREATED:20251209T110714Z
LAST-MODIFIED:20260109T103444Z
UID:1597-1769016600-1769023800@www.asylkreis-rossdorf.de
SUMMARY:Asylkreistreffen: außerordentlich 17.30 Uhr
DESCRIPTION:Wir tauschen Informationen aus und besprechen Aktivitäten. Interessierte Gäste sind herzlich willkommen. \nDie Hofreite Palmy wird uns für diesen Abend zur Verfügung gestellt.
URL:https://www.asylkreis-rossdorf.de/termin/treffen-des-ak-asyl/
LOCATION:Gundernhausen\, Hofreite Palmy\, Nordhäuser Straße 31\, Roßdorf-Gundernhausen
CATEGORIES:Aktuell,Treffen,Veranstaltungen
ORGANIZER;CN="Arbeitskreis Asyl":MAILTO:j.quaiser@gmx.de
END:VEVENT
END:VCALENDAR