BEGIN:VCALENDAR
VERSION:2.0
PRODID:-//Arbeitskreis Asyl - ECPv6.15.20//NONSGML v1.0//EN
CALSCALE:GREGORIAN
METHOD:PUBLISH
X-WR-CALNAME:Arbeitskreis Asyl
X-ORIGINAL-URL:https://www.asylkreis-rossdorf.de
X-WR-CALDESC:Veranstaltungen für Arbeitskreis Asyl
REFRESH-INTERVAL;VALUE=DURATION:PT1H
X-Robots-Tag:noindex
X-PUBLISHED-TTL:PT1H
BEGIN:VTIMEZONE
TZID:Europe/Berlin
BEGIN:DAYLIGHT
TZOFFSETFROM:+0100
TZOFFSETTO:+0200
TZNAME:CEST
DTSTART:20240331T010000
END:DAYLIGHT
BEGIN:STANDARD
TZOFFSETFROM:+0200
TZOFFSETTO:+0100
TZNAME:CET
DTSTART:20241027T010000
END:STANDARD
BEGIN:DAYLIGHT
TZOFFSETFROM:+0100
TZOFFSETTO:+0200
TZNAME:CEST
DTSTART:20250330T010000
END:DAYLIGHT
BEGIN:STANDARD
TZOFFSETFROM:+0200
TZOFFSETTO:+0100
TZNAME:CET
DTSTART:20251026T010000
END:STANDARD
BEGIN:DAYLIGHT
TZOFFSETFROM:+0100
TZOFFSETTO:+0200
TZNAME:CEST
DTSTART:20260329T010000
END:DAYLIGHT
BEGIN:STANDARD
TZOFFSETFROM:+0200
TZOFFSETTO:+0100
TZNAME:CET
DTSTART:20261025T010000
END:STANDARD
END:VTIMEZONE
BEGIN:VEVENT
DTSTART;TZID=Europe/Berlin:20251022T190000
DTEND;TZID=Europe/Berlin:20251022T210000
DTSTAMP:20260424T015504
CREATED:20250925T070441Z
LAST-MODIFIED:20251007T093436Z
UID:1472-1761159600-1761166800@www.asylkreis-rossdorf.de
SUMMARY:Asylkreistreffen
DESCRIPTION:Wir tauschen Informationen aus und besprechen Aktivitäten. Gäste sind herzlich willkommen.
URL:https://www.asylkreis-rossdorf.de/termin/asylkreistreffen-24/
LOCATION:Gundernhausen\, Hofreite Palmy\, Nordhäuser Straße 31\, Roßdorf-Gundernhausen
CATEGORIES:Treffen
END:VEVENT
END:VCALENDAR